BEGIN:VCALENDAR
VERSION:2.0
PRODID:-//Keep It In The UP! - ECPv6.15.20//NONSGML v1.0//EN
CALSCALE:GREGORIAN
METHOD:PUBLISH
X-WR-CALNAME:Keep It In The UP!
X-ORIGINAL-URL:https://www.keepitintheup.com
X-WR-CALDESC:Events for Keep It In The UP!
REFRESH-INTERVAL;VALUE=DURATION:PT1H
X-Robots-Tag:noindex
X-PUBLISHED-TTL:PT1H
BEGIN:VTIMEZONE
TZID:UTC
BEGIN:STANDARD
TZOFFSETFROM:+0000
TZOFFSETTO:+0000
TZNAME:UTC
DTSTART:20250101T000000
END:STANDARD
END:VTIMEZONE
BEGIN:VEVENT
DTSTART;TZID=UTC:20260521T180000
DTEND;TZID=UTC:20260521T193000
DTSTAMP:20260421T212652
CREATED:20260410T185321Z
LAST-MODIFIED:20260410T185335Z
UID:5502-1779386400-1779391800@www.keepitintheup.com
SUMMARY:Marquette County Invites Residents to Shape the Future at Community Events (Ishpeming)
DESCRIPTION:The Marquette County Planning Division is hosting a series of Map the Future events across the county to gather community input\, providing an opportunity to guide the Division’s update of the Marquette County 2040 Master Plan at four regional meetings. Residents are encouraged to attend the meeting in their region. At each event\, attendees can expect to hear from county planners on local demographics and trends\, learn about related planning processes underway\, including Materials Management and Hazard Mitigation\, and connect with fellow community members. Participants will also be invited to share their thoughts on key topics including Economy\, Health and Human Services\, Housing\, Recreation\, Transportation\, and Environment.  \n  \nEvent Schedule by Region:  \n\n Moose Hills: Monday\, May 4 @ 6 PM | Jerzi’s 41\, 9965 US-41\, Champion\, MI 49814 \n Borealis Beach: Thursday\, May 7 @ 6 PM | Barrel + Beam\, 260 Northwoods Rd\, Marquette\, MI 49855 \n Blueberry Farms: Thursday\, May 14 @ 6 PM | UP North Lodge\, 215 S Co Rd 557\, Gwinn\, MI 49841 \n Iron Core: Thursday\, May 21 @ 6 PM | The Mather\, 107 E Canda St\, Ishpeming\, MI 49849 \n\n  \nAll events run from about 6:00–7:30 PM and are drop-in friendly. A presentation by county planners will take place shortly after 6. All community members are welcome. Light snacks will be provided\, and a cash bar will be available.  \nTo find your planning region or learn more\, visit mqtcoplan.org.  \nFor More Information Contact:  \nGrace Freed\,  \nMI Healthy Climate Fellow  \ngfreed@mqtco.org  \n(906) 225-8322 
URL:https://www.keepitintheup.com/event/marquette-county-invites-residents-to-shape-the-future-at-community-events/
LOCATION:The Mather\, 107 E Canda Street\, Ishpeming\, MI\, 49849\, United States
CATEGORIES:Central UP Events
END:VEVENT
BEGIN:VEVENT
DTSTART;TZID=UTC:20260522T120000
DTEND;TZID=UTC:20260522T130000
DTSTAMP:20260421T212652
CREATED:20260417T203208Z
LAST-MODIFIED:20260417T203208Z
UID:5667-1779451200-1779454800@www.keepitintheup.com
SUMMARY:PWPL Presents: Cultivating Care\, Compassion\, and Connection
DESCRIPTION:Fridays\, May (1\, 8\, 15\, 22\, 29) 2026.  \nNoon – 1:00 p.m.  \nPeter White Public Library\, Heritage Room.  \nIn partnership with several area organizations\, this hour-long event offers a safe space to pause\, reflect\, and build meaningful connections with others who are committed to cultivating kindness in our world. Each week\, a different organization takes the lead\, with experienced educators and leaders facilitating. This rotating format ensures diverse perspectives and practices while maintaining a shared commitment to the Charter for Compassion and the Circle of Trust principles.  \nFor more information and to check on the status of the program\, call 906-226-4303 or visit pwpl.info. \n 
URL:https://www.keepitintheup.com/event/pwpl-presents-cultivating-care-compassion-and-connection-37/
LOCATION:Peter White Public Library\, 217 N Front Street\, Marquette\, MI\, 49855
CATEGORIES:Central UP Events
END:VEVENT
BEGIN:VEVENT
DTSTART;TZID=UTC:20260523T090000
DTEND;TZID=UTC:20260523T130000
DTSTAMP:20260421T212652
CREATED:20260102T210207Z
LAST-MODIFIED:20260102T210207Z
UID:4257-1779526800-1779541200@www.keepitintheup.com
SUMMARY:Saturday Morning Farmers Market﻿
DESCRIPTION:Saturday Morning Farmers Market \n\nSaturdays\, May 16 – Nov.\, 9 am – 1 pm
URL:https://www.keepitintheup.com/event/saturday-morning-farmers-market-2/
CATEGORIES:Central UP Events
END:VEVENT
BEGIN:VEVENT
DTSTART;TZID=UTC:20260526T183000
DTEND;TZID=UTC:20260526T183000
DTSTAMP:20260421T212652
CREATED:20260213T154959Z
LAST-MODIFIED:20260213T154959Z
UID:4780-1779820200-1779820200@www.keepitintheup.com
SUMMARY:Keweenaw Support 4 Healthy Minds Monthly Meeting
DESCRIPTION:Please announce  the following recurring monthly event: for Keweenaw Support 4 Healthy Minds.The meetings are held at the Portage Lake District Library at 6:30 pm.\, the last Tuesday of each month. \nThe dates are as follows: \nMay 26\, 2026 6:30 pm @ PLDL \nJune 30\, 2026\, 6:30 pm @PLDL \nJuly 28\, 2026\, 6:30 pm @PLDL \nThank you for your kind attention in announcing these meeting dates.  Keweenaw Support 4 Healthy Minds is dedicated to the well-being of individuals living in our communities. Please feel free to call me (Sue Kauppi) at 906-369-4858 with any questions or concerns.
URL:https://www.keepitintheup.com/event/keweenaw-support-4-healthy-minds-monthly-meeting-4/
LOCATION:Portage Lake District Library\, 4585 W. Lakeshore Drive\, Houghton\, MI\, 49908\, United States
CATEGORIES:Western UP Events
END:VEVENT
BEGIN:VEVENT
DTSTART;TZID=UTC:20260529T120000
DTEND;TZID=UTC:20260529T130000
DTSTAMP:20260421T212652
CREATED:20260417T203242Z
LAST-MODIFIED:20260417T203242Z
UID:5669-1780056000-1780059600@www.keepitintheup.com
SUMMARY:PWPL Presents: Cultivating Care\, Compassion\, and Connection
DESCRIPTION:Fridays\, May (1\, 8\, 15\, 22\, 29) 2026.  \nNoon – 1:00 p.m.  \nPeter White Public Library\, Heritage Room.  \nIn partnership with several area organizations\, this hour-long event offers a safe space to pause\, reflect\, and build meaningful connections with others who are committed to cultivating kindness in our world. Each week\, a different organization takes the lead\, with experienced educators and leaders facilitating. This rotating format ensures diverse perspectives and practices while maintaining a shared commitment to the Charter for Compassion and the Circle of Trust principles.  \nFor more information and to check on the status of the program\, call 906-226-4303 or visit pwpl.info. \n 
URL:https://www.keepitintheup.com/event/pwpl-presents-cultivating-care-compassion-and-connection-38/
LOCATION:Peter White Public Library\, 217 N Front Street\, Marquette\, MI\, 49855
CATEGORIES:Central UP Events
END:VEVENT
BEGIN:VEVENT
DTSTART;TZID=UTC:20260530T090000
DTEND;TZID=UTC:20260530T130000
DTSTAMP:20260421T212652
CREATED:20260102T210253Z
LAST-MODIFIED:20260102T210253Z
UID:4259-1780131600-1780146000@www.keepitintheup.com
SUMMARY:Saturday Morning Farmers Market﻿
DESCRIPTION:Saturday Morning Farmers Market \n\nSaturdays\, May 16 – Nov.\, 9 am – 1 pm
URL:https://www.keepitintheup.com/event/saturday-morning-farmers-market-3/
CATEGORIES:Central UP Events
END:VEVENT
BEGIN:VEVENT
DTSTART;TZID=UTC:20260603T170000
DTEND;TZID=UTC:20260603T200000
DTSTAMP:20260421T212652
CREATED:20260102T212008Z
LAST-MODIFIED:20260102T212008Z
UID:4310-1780506000-1780516800@www.keepitintheup.com
SUMMARY:Wednesday Night Farmers Market﻿
DESCRIPTION:Wednesday Night Farmers Market \n\nWednesdays\, June – August\, 5 – 8 pm
URL:https://www.keepitintheup.com/event/wednesday-night-farmers-market/
CATEGORIES:Central UP Events
END:VEVENT
BEGIN:VEVENT
DTSTART;TZID=UTC:20260605T000000
DTEND;TZID=UTC:20260605T235959
DTSTAMP:20260421T212652
CREATED:20260421T135251Z
LAST-MODIFIED:20260421T135251Z
UID:5700-1780617600-1780703999@www.keepitintheup.com
SUMMARY:For the Heartlands Fundraiser Dinner and Concert
DESCRIPTION:Kickstart the Summer with “For the Heartlands” Fundraiser Dinner and Concert on June 5\, 2026\nSupport the launch of the Keweenaw Heartlands Community Forest\nHANCOCK\, MI\, April 21\, 2026— The Keweenaw Heartlands Community Advisory Committee and Keweenaw Community Foundation are partnering to host “For the Heartlands\,” a fundraiser dinner and concert on Friday\, June 5\, 2026\, at the Hidden Pines Barn in Calumet. \nThe event supports the Keweenaw Heartlands Forest Fund\, held by the Keweenaw Community Foundation\, to establish the Keweenaw Heartlands Community Forest. The fund covers costs related to the early governance and management of this future publicly owned\, locally governed forest—one of the first of its kind in Michigan. \nSince late 2022\, the Keweenaw Heartlands Community Advisory Committee has worked to advance the project in partnership with The Nature Conservancy and the Michigan Department of Natural Resources. The committee has spent over 1\,900 volunteer hours working to ensure sustained public access to the roughly 20\,000 acres in Keweenaw County that make up the Heartlands. \n“We joined the advisory committee because of our club’s mission to support outdoor recreation in the Keweenaw. One of our main trails is on the Heartlands property\,” said Daryl St. John\, Keweenaw ATV Club President. “For us\, it’s about continued access to off-road trails\, hunting\, fishing\, camping—and everything else we love about living in this area.” \nWith more than $324\,000 already secured\, this event celebrates the final phase of fundraising needed to reach the campaign target of $600\,000. Achieving this goal will enable the early planning and start-up of the Keweenaw Heartlands Community Forest once a local\, publicly elected Authority Board is established. \nEvent tickets are available now and expected to sell fast! Tickets are $125 each and include a sit-down dinner\, one drink token (cash bar also available)\, and live music from The Go Rounds. The event will also feature a silent auction showcasing uniquely Keweenaw experiences. Purchase your tickets online: http://bit.ly/4heartlands-tickets \nMore than just a night out\, this event offers attendees a chance to connect with others involved in this project to learn more about what’s ahead for this community forest. \nBecome a Sponsor\nCommunity members and local businesses are also invited to support the Keweenaw Heartlands Forest Fund through sponsorships that advance the campaign’s fundraising goal. Learn more about how you can sponsor: http://bit.ly/4heartlands-sponsor. \n“As I raise a family in the Keweenaw\, it’s very important to me that my children grow up in a place where they’re free to explore the wilderness\,” said Ethan Deshetsky\, of Hidden Pines Barn in Calumet and a Community Forest Hero sponsor for the event. “I support the Keweenaw Heartlands Project efforts to keep wild places open for future generations.” \nFor more information about the Keweenaw Heartlands Forest Fund\, visit www.keweenawheartlandsforestfund.org or contact Robin Meneguzzo at robin@keweenawgives.org or (906) 482-9673. \nFor more information about the Keweenaw Heartlands Project\, visit www.keweenawcommunityfoundation.org/keweenaw-heartlands.
URL:https://www.keepitintheup.com/event/for-the-heartlands-fundraiser-dinner-and-concert/
LOCATION:Hidden Pines Barn\, Calumet\, Michigan\, 49913
CATEGORIES:Western UP Events
END:VEVENT
BEGIN:VEVENT
DTSTART;TZID=UTC:20260606T090000
DTEND;TZID=UTC:20260606T130000
DTSTAMP:20260421T212652
CREATED:20260102T210323Z
LAST-MODIFIED:20260102T210323Z
UID:4261-1780736400-1780750800@www.keepitintheup.com
SUMMARY:Saturday Morning Farmers Market﻿
DESCRIPTION:Saturday Morning Farmers Market \n\nSaturdays\, May 16 – Nov.\, 9 am – 1 pm
URL:https://www.keepitintheup.com/event/saturday-morning-farmers-market-4/
CATEGORIES:Central UP Events
END:VEVENT
BEGIN:VEVENT
DTSTART;TZID=UTC:20260606T150000
DTEND;TZID=UTC:20260606T180000
DTSTAMP:20260421T212652
CREATED:20260417T153520Z
LAST-MODIFIED:20260417T153520Z
UID:5594-1780758000-1780768800@www.keepitintheup.com
SUMMARY:Lake Linden Farmers Market
DESCRIPTION:Lake Linden Farmers Market \n  \nFridays 3-6 pm \nLocated in the Lake Linden Village Park \nJune through to September \n  \nlakelindenfarmersmarket.com \nfacebook.com/lakelindenmi \ninstagram.com/lakelindenfarmersmarket \nlakelindenmarket@gmail.com
URL:https://www.keepitintheup.com/event/lake-linden-farmers-market-2/
LOCATION:Lake Linden Village Park\, Lake Linden\, Michigan
CATEGORIES:Western UP Events
END:VEVENT
BEGIN:VEVENT
DTSTART;TZID=UTC:20260610T170000
DTEND;TZID=UTC:20260610T200000
DTSTAMP:20260421T212652
CREATED:20260102T212125Z
LAST-MODIFIED:20260102T212125Z
UID:4312-1781110800-1781121600@www.keepitintheup.com
SUMMARY:Wednesday Night Farmers Market﻿
DESCRIPTION:Wednesday Night Farmers Market \n\nWednesdays\, June – August\, 5 – 8 pm
URL:https://www.keepitintheup.com/event/wednesday-night-farmers-market-2/
CATEGORIES:Central UP Events
END:VEVENT
BEGIN:VEVENT
DTSTART;TZID=UTC:20260613T090000
DTEND;TZID=UTC:20260613T130000
DTSTAMP:20260421T212652
CREATED:20260102T210353Z
LAST-MODIFIED:20260102T210353Z
UID:4263-1781341200-1781355600@www.keepitintheup.com
SUMMARY:Saturday Morning Farmers Market﻿
DESCRIPTION:Saturday Morning Farmers Market \n\nSaturdays\, May 16 – Nov.\, 9 am – 1 pm
URL:https://www.keepitintheup.com/event/saturday-morning-farmers-market-5/
CATEGORIES:Central UP Events
END:VEVENT
BEGIN:VEVENT
DTSTART;TZID=UTC:20260613T120000
DTEND;TZID=UTC:20260613T160000
DTSTAMP:20260421T212652
CREATED:20260403T210645Z
LAST-MODIFIED:20260403T210645Z
UID:5450-1781352000-1781366400@www.keepitintheup.com
SUMMARY:Little Trout Lake Park Ribbon Cutting
DESCRIPTION:LTL Park Ribbon Cutting Press Release \nJune 13th \n12:00 p.m. to 4:00 p.m \nLittle Trout Lake Park
URL:https://www.keepitintheup.com/event/little-trout-lake-park-ribbon-cutting/
LOCATION:Little Trout Lake Park\, Gwinn\, MI\, 49841\, United States
CATEGORIES:Central UP Events
END:VEVENT
BEGIN:VEVENT
DTSTART;TZID=UTC:20260613T130000
DTEND;TZID=UTC:20260613T130000
DTSTAMP:20260421T212652
CREATED:20260102T211731Z
LAST-MODIFIED:20260102T211731Z
UID:4308-1781355600-1781355600@www.keepitintheup.com
SUMMARY:Pride﻿
DESCRIPTION:Pride \n\nSaturday\, June 13\, 1 pm
URL:https://www.keepitintheup.com/event/pride/
CATEGORIES:Central UP Events
END:VEVENT
BEGIN:VEVENT
DTSTART;TZID=UTC:20260613T150000
DTEND;TZID=UTC:20260613T180000
DTSTAMP:20260421T212652
CREATED:20260417T153612Z
LAST-MODIFIED:20260417T153612Z
UID:5596-1781362800-1781373600@www.keepitintheup.com
SUMMARY:Lake Linden Farmers Market
DESCRIPTION:Lake Linden Farmers Market \n  \nFridays 3-6 pm \nLocated in the Lake Linden Village Park \nJune through to September \n  \nlakelindenfarmersmarket.com \nfacebook.com/lakelindenmi \ninstagram.com/lakelindenfarmersmarket \nlakelindenmarket@gmail.com
URL:https://www.keepitintheup.com/event/lake-linden-farmers-market-3/
LOCATION:Lake Linden Village Park\, Lake Linden\, Michigan
CATEGORIES:Western UP Events
END:VEVENT
BEGIN:VEVENT
DTSTART;TZID=UTC:20260620T090000
DTEND;TZID=UTC:20260620T130000
DTSTAMP:20260421T212652
CREATED:20260102T210433Z
LAST-MODIFIED:20260102T210433Z
UID:4265-1781946000-1781960400@www.keepitintheup.com
SUMMARY:Saturday Morning Farmers Market﻿
DESCRIPTION:Saturday Morning Farmers Market \n\nSaturdays\, May 16 – Nov.\, 9 am – 1 pm
URL:https://www.keepitintheup.com/event/saturday-morning-farmers-market-6/
CATEGORIES:Central UP Events
END:VEVENT
BEGIN:VEVENT
DTSTART;TZID=UTC:20260620T150000
DTEND;TZID=UTC:20260620T180000
DTSTAMP:20260421T212652
CREATED:20260417T153644Z
LAST-MODIFIED:20260417T153644Z
UID:5598-1781967600-1781978400@www.keepitintheup.com
SUMMARY:Lake Linden Farmers Market
DESCRIPTION:Lake Linden Farmers Market \n  \nFridays 3-6 pm \nLocated in the Lake Linden Village Park \nJune through to September \n  \nlakelindenfarmersmarket.com \nfacebook.com/lakelindenmi \ninstagram.com/lakelindenfarmersmarket \nlakelindenmarket@gmail.com
URL:https://www.keepitintheup.com/event/lake-linden-farmers-market-4/
LOCATION:Lake Linden Village Park\, Lake Linden\, Michigan
CATEGORIES:Western UP Events
END:VEVENT
BEGIN:VEVENT
DTSTART;TZID=UTC:20260624T120000
DTEND;TZID=UTC:20260624T120000
DTSTAMP:20260421T212652
CREATED:20260420T160039Z
LAST-MODIFIED:20260420T160517Z
UID:5689-1782302400-1782302400@www.keepitintheup.com
SUMMARY:Feeding America Mobile Food Pantry Distribution
DESCRIPTION:Feeding America West Michigan 2026 mobile food pantry distribution\n\nLocation:  Sacred Heart Church Calumet\n\nCategory:  Free Community Event\n\nDescription:\nA free drive through event at Sacred Heart Church Calumet serving up to 320 households with fresh produce\, dairy\, grains and other staple food items.  No appointments; no payments; no income verification required.\nWatch for signs on US 41 and Lake Linden Ave. in Laurium to follow entry and exit of the drive through event.  Volunteers will help direct you and place your food box into your vehicle.\n\nContact:  Jared Howard\, President CLK Council of Churches\nEmail:  clkcouncil@gmail.com\nPhone:  906-337-2400\n\n(2026 Dates:  June24/Wednesday; August 26/Wednesday; October 28/Wednesday; December 29/Tuesday)
URL:https://www.keepitintheup.com/event/feeding-america-mobile-food-pantry-distribution-2/
LOCATION:Sacred Heart Catholic Church\, Calumet\, Michigan\, 49913
CATEGORIES:Western UP Events
END:VEVENT
BEGIN:VEVENT
DTSTART;TZID=UTC:20260626T000000
DTEND;TZID=UTC:20260626T235959
DTSTAMP:20260421T212652
CREATED:20260410T193622Z
LAST-MODIFIED:20260410T193622Z
UID:5538-1782432000-1782518399@www.keepitintheup.com
SUMMARY:Soo Locks to host Engineers Day 2026
DESCRIPTION:The U.S. Army Corps of Engineers\, Detroit District in conjunction with the City of Sault Ste. Marie\, the Sault Ste. Marie Convention & Visitors Bureau\, the Lake Superior State University Center for Freshwater Research and Education\, Hospice of the Eastern Upper Peninsula\, and Superior Health Systems are hosting open house events for the 2026 Soo Locks Engineers Day on June 26.   \n  \n“Visitors will not be able to cross the locks this year due to increased construction activity and evolving security protocols\,” said LeighAnn Ryckeghem\, Soo Project Office Operations Manager. “There will be a variety of unique exhibits in the park for visitors to learn about the Soo Locks as well as several stakeholder and partner missions.”  \n  \nThis year\, visitors are welcome into Soo Locks Canal Park from 9 a.m. to 3:30 p.m.\, Friday\, June 26 for Engineers Day activities and new Corps of Engineers vessel dedications. Following the Engineers Day events\, the viewing platform will remain open until 10 p.m.\, and the Soo Locks Visitor Center will be open from 10 a.m. to 7 p.m.    \n  \n“The first Soo Locks Engineers Day took place on June 16\, 1975\,” said Soo Locks Archivist Natalie Humphrey. “Then mayor of Sault Ste. Marie\, Michigan\, Frank Pingatore\, declared the day as Army Corps of Engineers Day and urged all good people of the community to give recognition to the people who comprise the Corps of Engineers. Since 1975\, the Soo Locks have hosted Engineers Day\, except for 2020\, welcoming all visitors to share in the Soo Locks history and mission.” \n  \nWe are continuing the requirement for all bags coming into the Soo Locks Park to be clear. Clear bags will allow park security to quickly inspect bags and assist with making this a fun and safe event for everyone. \n  \nFor our visitors bringing bags\, the Engineers Day policy for the Soo Locks follows: \n  \n\nClear bags cannot be larger than 12 inches long\, 6 inches deep and 12 inches wide.\nDiaper bags are not allowed.\nMedical bags are exempt.\nWallets must not have a strap and cannot exceed 4.5 inches by 6.5 inches.\n\n  \nAll people entering the Soo Locks are subject to a security search. Firearms\, weapons – including knives of any size\, drugs\, pets (except service animals)\, skateboards and bicycles are not permitted. \n  \nWe will be continuing one-way entry into the park through the main gate for security screening. \n    \nThe Sault Ste. Marie Convention and Visitors Bureau are closing a portion of Portage Avenue to focus on downtown city merchants and vendors. Downtown Portage Avenue will close to vehicle traffic and open for pedestrians and vendors between Ferris Street and Osborn Boulevard from 6 a.m. to 6 p.m.\, June 26.   \n“The Soo Locks have long been a cornerstone of our community’s history\,” said Linda Hoath\, executive director of the Sault Area Convention & Visitors Bureau. “Engineers Day gives us the opportunity to honor both their legacy and the innovation behind them. In recent years\, we’ve worked to expand Engineers Day into a celebration that engages the entire downtown. We’re excited to welcome both residents and visitors to join us downtown for this special event.”   \nAlong with welcoming visitors to the Soo Locks Park\, several other events will take place:  \n  \n\nHospice of the Eastern Upper Peninsula and Superior Health Systems Arts\, Crafts and Family Fun Fair at the City Hall grounds from 10 a.m. to 6 p.m.  \nLake Superior State University Center for Freshwater Research and Education will be open from 10 a.m. to 4 p.m.  \n\n   \nTo register as a vendor (no-cost) on Portage Avenue\, please contact the Sault Area Convention and Visitors Bureau at 906-632-3366 or admin@saultstemarie.com.   \n 
URL:https://www.keepitintheup.com/event/soo-locks-to-host-engineers-day-2026/
LOCATION:E Portage Ave\, Sault Ste. Marie\, MI\, 49783\, United States
CATEGORIES:Central UP Events
END:VEVENT
BEGIN:VEVENT
DTSTART;TZID=UTC:20260627T080000
DTEND;TZID=UTC:20260627T120000
DTSTAMP:20260421T212652
CREATED:20260414T152642Z
LAST-MODIFIED:20260414T152642Z
UID:5587-1782547200-1782561600@www.keepitintheup.com
SUMMARY:KBIC Kids Fishing Day 2026
DESCRIPTION:KBIC Kids Fishing Day 2026 \n  \nSaturday\, June 27th \n9:00a – 12:00p \n  \nAll Kids must be accompanied by an adult \nLocation:  Ojibwa Campground 101 Light House Road\, Baraga\, MI \n  \nQuestions?  Contact Michael at KBIC NRD 906-524-5757 ext 4245
URL:https://www.keepitintheup.com/event/kbic-kids-fishing-day-2026/
LOCATION:Ojibwa Campground\, Baraga\, Michigan\, 49908
CATEGORIES:Western UP Events
END:VEVENT
BEGIN:VEVENT
DTSTART;TZID=UTC:20260627T090000
DTEND;TZID=UTC:20260627T130000
DTSTAMP:20260421T212652
CREATED:20260102T210505Z
LAST-MODIFIED:20260102T210505Z
UID:4267-1782550800-1782565200@www.keepitintheup.com
SUMMARY:Saturday Morning Farmers Market﻿
DESCRIPTION:Saturday Morning Farmers Market \n\nSaturdays\, May 16 – Nov.\, 9 am – 1 pm
URL:https://www.keepitintheup.com/event/saturday-morning-farmers-market-7/
CATEGORIES:Central UP Events
END:VEVENT
BEGIN:VEVENT
DTSTART;TZID=UTC:20260627T150000
DTEND;TZID=UTC:20260627T180000
DTSTAMP:20260421T212652
CREATED:20260417T153722Z
LAST-MODIFIED:20260417T153722Z
UID:5600-1782572400-1782583200@www.keepitintheup.com
SUMMARY:Lake Linden Farmers Market
DESCRIPTION:Lake Linden Farmers Market \n  \nFridays 3-6 pm \nLocated in the Lake Linden Village Park \nJune through to September \n  \nlakelindenfarmersmarket.com \nfacebook.com/lakelindenmi \ninstagram.com/lakelindenfarmersmarket \nlakelindenmarket@gmail.com
URL:https://www.keepitintheup.com/event/lake-linden-farmers-market-5/
LOCATION:Lake Linden Village Park\, Lake Linden\, Michigan
CATEGORIES:Western UP Events
END:VEVENT
BEGIN:VEVENT
DTSTART;TZID=UTC:20260630T183000
DTEND;TZID=UTC:20260630T183000
DTSTAMP:20260421T212652
CREATED:20260213T155048Z
LAST-MODIFIED:20260213T155048Z
UID:4782-1782844200-1782844200@www.keepitintheup.com
SUMMARY:Keweenaw Support 4 Healthy Minds Monthly Meeting
DESCRIPTION:Please announce  the following recurring monthly event: for Keweenaw Support 4 Healthy Minds.The meetings are held at the Portage Lake District Library at 6:30 pm.\, the last Tuesday of each month. \nThe dates are as follows: \nJune 30\, 2026\, 6:30 pm @PLDL \nJuly 28\, 2026\, 6:30 pm @PLDL \nThank you for your kind attention in announcing these meeting dates.  Keweenaw Support 4 Healthy Minds is dedicated to the well-being of individuals living in our communities. Please feel free to call me (Sue Kauppi) at 906-369-4858 with any questions or concerns.
URL:https://www.keepitintheup.com/event/keweenaw-support-4-healthy-minds-monthly-meeting-5/
LOCATION:Portage Lake District Library\, 4585 W. Lakeshore Drive\, Houghton\, MI\, 49908\, United States
CATEGORIES:Western UP Events
END:VEVENT
BEGIN:VEVENT
DTSTART;TZID=UTC:20260701T170000
DTEND;TZID=UTC:20260701T200000
DTSTAMP:20260421T212652
CREATED:20260102T212315Z
LAST-MODIFIED:20260102T212315Z
UID:4318-1782925200-1782936000@www.keepitintheup.com
SUMMARY:Wednesday Night Farmers Market﻿
DESCRIPTION:Wednesday Night Farmers Market \n\nWednesdays\, June – August\, 5 – 8 pm
URL:https://www.keepitintheup.com/event/wednesday-night-farmers-market-5/
CATEGORIES:Central UP Events
END:VEVENT
BEGIN:VEVENT
DTSTART;TZID=UTC:20260703T000000
DTEND;TZID=UTC:20260704T235959
DTSTAMP:20260421T212652
CREATED:20260102T213513Z
LAST-MODIFIED:20260102T213513Z
UID:4349-1783036800-1783209599@www.keepitintheup.com
SUMMARY:﻿4th of July﻿
DESCRIPTION:4th of July \n\nFriday – Saturday\, July 3 – 4
URL:https://www.keepitintheup.com/event/4th-of-july/
CATEGORIES:Central UP Events
END:VEVENT
BEGIN:VEVENT
DTSTART;TZID=UTC:20260704T090000
DTEND;TZID=UTC:20260704T130000
DTSTAMP:20260421T212652
CREATED:20260102T210539Z
LAST-MODIFIED:20260102T210539Z
UID:4269-1783155600-1783170000@www.keepitintheup.com
SUMMARY:Saturday Morning Farmers Market﻿
DESCRIPTION:Saturday Morning Farmers Market \n\nSaturdays\, May 16 – Nov.\, 9 am – 1 pm
URL:https://www.keepitintheup.com/event/saturday-morning-farmers-market-8/
CATEGORIES:Central UP Events
END:VEVENT
BEGIN:VEVENT
DTSTART;TZID=UTC:20260704T150000
DTEND;TZID=UTC:20260704T180000
DTSTAMP:20260421T212652
CREATED:20260417T153802Z
LAST-MODIFIED:20260417T153802Z
UID:5602-1783177200-1783188000@www.keepitintheup.com
SUMMARY:Lake Linden Farmers Market
DESCRIPTION:Lake Linden Farmers Market \n  \nFridays 3-6 pm \nLocated in the Lake Linden Village Park \nJune through to September \n  \nlakelindenfarmersmarket.com \nfacebook.com/lakelindenmi \ninstagram.com/lakelindenfarmersmarket \nlakelindenmarket@gmail.com
URL:https://www.keepitintheup.com/event/lake-linden-farmers-market-6/
LOCATION:Lake Linden Village Park\, Lake Linden\, Michigan
CATEGORIES:Western UP Events
END:VEVENT
BEGIN:VEVENT
DTSTART;TZID=UTC:20260711T090000
DTEND;TZID=UTC:20260711T130000
DTSTAMP:20260421T212652
CREATED:20260102T210610Z
LAST-MODIFIED:20260102T210610Z
UID:4271-1783760400-1783774800@www.keepitintheup.com
SUMMARY:Saturday Morning Farmers Market﻿
DESCRIPTION:Saturday Morning Farmers Market \n\nSaturdays\, May 16 – Nov.\, 9 am – 1 pm
URL:https://www.keepitintheup.com/event/saturday-morning-farmers-market-9/
CATEGORIES:Central UP Events
END:VEVENT
BEGIN:VEVENT
DTSTART;TZID=UTC:20260711T150000
DTEND;TZID=UTC:20260711T180000
DTSTAMP:20260421T212652
CREATED:20260417T153837Z
LAST-MODIFIED:20260417T153837Z
UID:5604-1783782000-1783792800@www.keepitintheup.com
SUMMARY:Lake Linden Farmers Market
DESCRIPTION:Lake Linden Farmers Market \n  \nFridays 3-6 pm \nLocated in the Lake Linden Village Park \nJune through to September \n  \nlakelindenfarmersmarket.com \nfacebook.com/lakelindenmi \ninstagram.com/lakelindenfarmersmarket \nlakelindenmarket@gmail.com
URL:https://www.keepitintheup.com/event/lake-linden-farmers-market-7/
LOCATION:Lake Linden Village Park\, Lake Linden\, Michigan
CATEGORIES:Western UP Events
END:VEVENT
BEGIN:VEVENT
DTSTART;TZID=UTC:20260716T180000
DTEND;TZID=UTC:20260716T180000
DTSTAMP:20260421T212652
CREATED:20260102T213020Z
LAST-MODIFIED:20260102T213058Z
UID:4336-1784224800-1784224800@www.keepitintheup.com
SUMMARY:Music on Third
DESCRIPTION:Music on Third \n\nThursdays\, July 16\, Aug. 20\, Sept. 17\, 6 – 9 pm
URL:https://www.keepitintheup.com/event/music-on-third-thursdays-july-16/
CATEGORIES:Central UP Events
END:VEVENT
END:VCALENDAR